BEGIN:VCALENDAR
PRODID:-//kirchenweb.ch gmbh//veranstaltungsausgabe v2.0//DE
VERSION:2.0
METHOD:PUBLISH
BEGIN:VEVENT
DTSTART:20260527T080000Z
DTEND:20260527T084500Z
LOCATION:Alterszentrum Schwanden\, Thonerstrasse 110\, 8762 Schwanden
TRANSP:OPAQUE
SEQUENCE:0
UID:27967-veranstaltung@ref-gl.ch
DTSTAMP:20251108T102712Z
DESCRIPTION:Kontakt: Bruno Wyler-Eschle\n\nWeitere Infos:
  https://www.ref-gl.ch/veranstaltung/27967
SUMMARY:Gottesdienst im Alterszentrum Schwanden
PRIORITY:5
X-MICROSOFT-CDO-IMPORTANCE:1
CLASS:PUBLIC
END:VEVENT
END:VCALENDAR
