BEGIN:VCALENDAR
PRODID:-//kirchenweb.ch gmbh//veranstaltungsausgabe v2.0//DE
VERSION:2.0
METHOD:PUBLISH
BEGIN:VEVENT
DTSTART:20260520T120000Z
DTEND:20260520T140000Z
LOCATION:Pfarrhaus Post\, Hauptstrasse 37A\, Schwanden\, 8762 Schwanden
TRANSP:OPAQUE
SEQUENCE:0
UID:28923-veranstaltung@ref-gl.ch
DTSTAMP:20260412T133854Z
DESCRIPTION:Sagennachmittag mit Anni Brühwiler und Elsbeth Hefti\,
  Mitlödi\, musikalisch Unterhaltung\n\nKontakt: lisa.trachsler@ref-gl.ch
 \n\nWeitere Infos: https://www.ref-gl.ch/veranstaltung/28923
SUMMARY:Sagennachmittag im Pfarrhaus Post\, Schwanden
PRIORITY:5
X-MICROSOFT-CDO-IMPORTANCE:1
CLASS:PUBLIC
END:VEVENT
END:VCALENDAR
